Package: packFinder Version: 1.19.0 Command: /Library/Frameworks/R.framework/Resources/bin/R CMD build --keep-empty-dirs --no-resave-data packFinder StartedAt: 2025-02-09 17:50:59 -0500 (Sun, 09 Feb 2025) EndedAt: 2025-02-09 17:51:24 -0500 (Sun, 09 Feb 2025) EllapsedTime: 25.2 seconds RetCode: 0 Status: OK PackageFile: packFinder_1.19.0.tar.gz PackageFileSize: 1.132 MiB