Package: packFinder Version: 1.19.0 Command: /home/biocbuild/bbs-3.21-bioc/R/bin/R CMD build --keep-empty-dirs --no-resave-data packFinder StartedAt: 2025-02-04 18:30:12 -0500 (Tue, 04 Feb 2025) EndedAt: 2025-02-04 18:30:32 -0500 (Tue, 04 Feb 2025) EllapsedTime: 20.0 seconds RetCode: 0 Status: OK PackageFile: packFinder_1.19.0.tar.gz PackageFileSize: 1.149 MiB