Package: packFinder Version: 1.19.0 Command: /home/biocbuild/bbs-3.21-bioc/R/bin/R CMD check --install=check:packFinder.install-out.txt --library=/home/biocbuild/bbs-3.21-bioc/R/site-library --timings packFinder_1.19.0.tar.gz StartedAt: 2025-02-05 01:09:19 -0500 (Wed, 05 Feb 2025) EndedAt: 2025-02-05 01:10:07 -0500 (Wed, 05 Feb 2025) EllapsedTime: 48.1 seconds RetCode: 0 Status: OK CheckDir: packFinder.Rcheck Warnings: 0