Package: packFinder Version: 1.19.0 Command: chmod a+r packFinder -R && E:\biocbuild\bbs-3.21-bioc\R\bin\R.exe CMD build --keep-empty-dirs --no-resave-data packFinder StartedAt: 2025-02-09 20:32:51 -0500 (Sun, 09 Feb 2025) EndedAt: 2025-02-09 20:33:18 -0500 (Sun, 09 Feb 2025) EllapsedTime: 27.2 seconds RetCode: 0 Status: OK PackageFile: packFinder_1.19.0.tar.gz PackageFileSize: 1.129 MiB