Package: packFinder Version: 1.19.0 Command: E:\biocbuild\bbs-3.21-bioc\R\bin\R.exe CMD check --no-multiarch --install=check:packFinder.install-out.txt --library=E:\biocbuild\bbs-3.21-bioc\R\library --no-vignettes --timings packFinder_1.19.0.tar.gz StartedAt: 2025-02-10 03:51:33 -0500 (Mon, 10 Feb 2025) EndedAt: 2025-02-10 03:52:31 -0500 (Mon, 10 Feb 2025) EllapsedTime: 57.5 seconds RetCode: 0 Status: OK CheckDir: packFinder.Rcheck Warnings: 0