Package: padma Version: 1.17.0 Command: rm -rf padma.buildbin-libdir && mkdir padma.buildbin-libdir && /Users/biocbuild/BBS/utils/build-universal.sh padma_1.17.0.tar.gz /Library/Frameworks/R.framework/Resources/bin/R padma.buildbin-libdir StartedAt: 2025-02-12 22:29:44 -0500 (Wed, 12 Feb 2025) EndedAt: 2025-02-12 22:29:56 -0500 (Wed, 12 Feb 2025) EllapsedTime: 12.3 seconds RetCode: 0 Status: OK PackageFile: padma_1.17.0.tgz PackageFileSize: 1.333 MiB