Package: padma Version: 1.17.0 Command: /Library/Frameworks/R.framework/Resources/bin/R CMD build --keep-empty-dirs --no-resave-data padma StartedAt: 2025-02-12 17:11:24 -0500 (Wed, 12 Feb 2025) EndedAt: 2025-02-12 17:11:48 -0500 (Wed, 12 Feb 2025) EllapsedTime: 23.3 seconds RetCode: 0 Status: OK PackageFile: padma_1.17.0.tar.gz PackageFileSize: 1.156 MiB