Package: padma Version: 1.17.0 Command: /Library/Frameworks/R.framework/Resources/bin/R CMD check --install=check:padma.install-out.txt --library=/Library/Frameworks/R.framework/Resources/library --no-vignettes --timings padma_1.17.0.tar.gz StartedAt: 2025-02-09 22:32:06 -0500 (Sun, 09 Feb 2025) EndedAt: 2025-02-09 22:37:44 -0500 (Sun, 09 Feb 2025) EllapsedTime: 337.9 seconds RetCode: 0 Status: OK CheckDir: padma.Rcheck Warnings: 0