Package: padma Version: 1.17.0 Command: /Library/Frameworks/R.framework/Resources/bin/R CMD INSTALL padma StartedAt: 2025-02-09 15:38:09 -0500 (Sun, 09 Feb 2025) EndedAt: 2025-02-09 15:38:47 -0500 (Sun, 09 Feb 2025) EllapsedTime: 38.4 seconds RetCode: 0 Status: OK