Package: padma Version: 1.17.0 Command: /home/biocbuild/bbs-3.21-bioc/R/bin/R CMD INSTALL padma StartedAt: 2025-02-09 15:20:35 -0500 (Sun, 09 Feb 2025) EndedAt: 2025-02-09 15:21:02 -0500 (Sun, 09 Feb 2025) EllapsedTime: 26.7 seconds RetCode: 0 Status: OK