Package: padma Version: 1.17.0 Command: E:\biocbuild\bbs-3.21-bioc\R\bin\R.exe CMD INSTALL padma StartedAt: 2025-02-09 16:19:31 -0500 (Sun, 09 Feb 2025) EndedAt: 2025-02-09 16:20:10 -0500 (Sun, 09 Feb 2025) EllapsedTime: 38.6 seconds RetCode: 0 Status: OK