Package: pageRank Version: 1.17.0 Command: rm -rf pageRank.buildbin-libdir && mkdir pageRank.buildbin-libdir && /Users/biocbuild/BBS/utils/build-universal.sh pageRank_1.17.0.tar.gz /Library/Frameworks/R.framework/Resources/bin/R pageRank.buildbin-libdir StartedAt: 2025-02-09 22:24:39 -0500 (Sun, 09 Feb 2025) EndedAt: 2025-02-09 22:24:57 -0500 (Sun, 09 Feb 2025) EllapsedTime: 18.5 seconds RetCode: 0 Status: OK PackageFile: pageRank_1.17.0.tgz PackageFileSize: 176.8 KiB