Package: pageRank Version: 1.17.0 Command: /Library/Frameworks/R.framework/Resources/bin/R CMD check --install=check:pageRank.install-out.txt --library=/Library/Frameworks/R.framework/Resources/library --no-vignettes --timings pageRank_1.17.0.tar.gz StartedAt: 2025-02-09 20:33:40 -0500 (Sun, 09 Feb 2025) EndedAt: 2025-02-09 20:35:40 -0500 (Sun, 09 Feb 2025) EllapsedTime: 119.4 seconds RetCode: 0 Status: OK CheckDir: pageRank.Rcheck Warnings: 0