Package: pageRank Version: 1.17.0 Command: /Library/Frameworks/R.framework/Resources/bin/R CMD INSTALL pageRank StartedAt: 2025-02-03 15:46:37 -0500 (Mon, 03 Feb 2025) EndedAt: 2025-02-03 15:46:54 -0500 (Mon, 03 Feb 2025) EllapsedTime: 17.0 seconds RetCode: 0 Status: OK