Package: pageRank Version: 1.17.0 Command: /home/biocbuild/R/R/bin/R CMD build --keep-empty-dirs --no-resave-data pageRank StartedAt: 2025-01-29 01:08:23 -0000 (Wed, 29 Jan 2025) EndedAt: 2025-01-29 01:10:32 -0000 (Wed, 29 Jan 2025) EllapsedTime: 129.2 seconds RetCode: 0 Status: OK PackageFile: pageRank_1.17.0.tar.gz PackageFileSize: 119.6 KiB