Package: pageRank Version: 1.17.0 Command: /home/biocbuild/R/R/bin/R CMD check --install=check:pageRank.install-out.txt --library=/home/biocbuild/R/R/site-library --no-vignettes --timings pageRank_1.17.0.tar.gz StartedAt: 2025-01-28 13:39:09 -0000 (Tue, 28 Jan 2025) EndedAt: 2025-01-28 13:48:40 -0000 (Tue, 28 Jan 2025) EllapsedTime: 570.7 seconds RetCode: 0 Status: OK CheckDir: pageRank.Rcheck Warnings: 0