Package: pageRank Version: 1.17.0 Command: rm -rf pageRank.buildbin-libdir && mkdir pageRank.buildbin-libdir && /Users/biocbuild/BBS/utils/build-universal.sh pageRank_1.17.0.tar.gz /Library/Frameworks/R.framework/Resources/bin/R pageRank.buildbin-libdir StartedAt: 2025-02-04 00:47:44 -0500 (Tue, 04 Feb 2025) EndedAt: 2025-02-04 00:48:41 -0500 (Tue, 04 Feb 2025) EllapsedTime: 56.8 seconds RetCode: 0 Status: OK PackageFile: pageRank_1.17.0.tgz PackageFileSize: 176.1 KiB