Package: pageRank Version: 1.17.0 Command: /Library/Frameworks/R.framework/Resources/bin/R CMD build --keep-empty-dirs --no-resave-data pageRank StartedAt: 2025-02-03 17:49:03 -0500 (Mon, 03 Feb 2025) EndedAt: 2025-02-03 17:52:55 -0500 (Mon, 03 Feb 2025) EllapsedTime: 232.6 seconds RetCode: 0 Status: OK PackageFile: pageRank_1.17.0.tar.gz PackageFileSize: 122.7 KiB