Package: pageRank Version: 1.17.0 Command: /Library/Frameworks/R.framework/Resources/bin/R CMD INSTALL pageRank StartedAt: 2025-02-09 15:22:57 -0500 (Sun, 09 Feb 2025) EndedAt: 2025-02-09 15:23:52 -0500 (Sun, 09 Feb 2025) EllapsedTime: 54.4 seconds RetCode: 0 Status: OK