Package: pageRank Version: 1.17.0 Command: /home/biocbuild/bbs-3.21-bioc/R/bin/R CMD INSTALL pageRank StartedAt: 2025-02-09 15:53:38 -0500 (Sun, 09 Feb 2025) EndedAt: 2025-02-09 15:54:20 -0500 (Sun, 09 Feb 2025) EllapsedTime: 42.0 seconds RetCode: 0 Status: OK