Package: pageRank Version: 1.17.0 Command: rm -rf pageRank.buildbin-libdir && mkdir pageRank.buildbin-libdir && E:\biocbuild\bbs-3.21-bioc\R\bin\R.exe CMD INSTALL --build --library=pageRank.buildbin-libdir pageRank_1.17.0.tar.gz StartedAt: 2025-02-10 08:20:43 -0500 (Mon, 10 Feb 2025) EndedAt: 2025-02-10 08:21:32 -0500 (Mon, 10 Feb 2025) EllapsedTime: 48.7 seconds RetCode: 0 Status: OK PackageFile: pageRank_1.17.0.zip PackageFileSize: 179.5 KiB