Package: pageRank Version: 1.17.0 Command: chmod a+r pageRank -R && E:\biocbuild\bbs-3.21-bioc\R\bin\R.exe CMD build --keep-empty-dirs --no-resave-data pageRank StartedAt: 2025-02-03 20:47:12 -0500 (Mon, 03 Feb 2025) EndedAt: 2025-02-03 20:49:23 -0500 (Mon, 03 Feb 2025) EllapsedTime: 131.0 seconds RetCode: 0 Status: OK PackageFile: pageRank_1.17.0.tar.gz PackageFileSize: 122.9 KiB