Package: pageRank Version: 1.17.0 Command: E:\biocbuild\bbs-3.21-bioc\R\bin\R.exe CMD INSTALL pageRank StartedAt: 2025-02-03 16:54:11 -0500 (Mon, 03 Feb 2025) EndedAt: 2025-02-03 16:55:00 -0500 (Mon, 03 Feb 2025) EllapsedTime: 49.3 seconds RetCode: 0 Status: OK