Package: paircompviz Version: 1.45.0 Command: /Library/Frameworks/R.framework/Resources/bin/R CMD build --keep-empty-dirs --no-resave-data paircompviz StartedAt: 2025-02-12 17:11:48 -0500 (Wed, 12 Feb 2025) EndedAt: 2025-02-12 17:11:57 -0500 (Wed, 12 Feb 2025) EllapsedTime: 9.1 seconds RetCode: 0 Status: OK PackageFile: paircompviz_1.45.0.tar.gz PackageFileSize: 354.1 KiB