Package: paircompviz Version: 1.45.0 Command: /Library/Frameworks/R.framework/Resources/bin/R CMD INSTALL paircompviz StartedAt: 2025-02-09 15:03:04 -0500 (Sun, 09 Feb 2025) EndedAt: 2025-02-09 15:03:12 -0500 (Sun, 09 Feb 2025) EllapsedTime: 8.4 seconds RetCode: 0 Status: OK