Package: paircompviz Version: 1.45.0 Command: /Library/Frameworks/R.framework/Resources/bin/R CMD INSTALL paircompviz StartedAt: 2025-02-09 15:08:49 -0500 (Sun, 09 Feb 2025) EndedAt: 2025-02-09 15:09:09 -0500 (Sun, 09 Feb 2025) EllapsedTime: 19.1 seconds RetCode: 0 Status: OK