Package: paircompviz Version: 1.45.0 Command: /home/biocbuild/bbs-3.21-bioc/R/bin/R CMD check --install=check:paircompviz.install-out.txt --library=/home/biocbuild/bbs-3.21-bioc/R/site-library --timings paircompviz_1.45.0.tar.gz StartedAt: 2025-02-10 01:05:16 -0500 (Mon, 10 Feb 2025) EndedAt: 2025-02-10 01:06:39 -0500 (Mon, 10 Feb 2025) EllapsedTime: 83.1 seconds RetCode: 0 Status: OK CheckDir: paircompviz.Rcheck Warnings: 0