Package: paircompviz Version: 1.45.0 Command: /home/biocbuild/bbs-3.21-bioc/R/bin/R CMD INSTALL paircompviz StartedAt: 2025-02-12 15:15:15 -0500 (Wed, 12 Feb 2025) EndedAt: 2025-02-12 15:15:18 -0500 (Wed, 12 Feb 2025) EllapsedTime: 3.1 seconds RetCode: 0 Status: OK