Package: pairedGSEA Version: 1.7.0 Command: /Library/Frameworks/R.framework/Resources/bin/R CMD INSTALL pairedGSEA StartedAt: 2025-02-04 15:23:23 -0500 (Tue, 04 Feb 2025) EndedAt: 2025-02-04 15:23:37 -0500 (Tue, 04 Feb 2025) EllapsedTime: 13.4 seconds RetCode: 0 Status: OK