Package: pairedGSEA Version: 1.7.0 Command: /home/biocbuild/R/R/bin/R CMD build --keep-empty-dirs --no-resave-data pairedGSEA StartedAt: 2025-01-29 01:09:19 -0000 (Wed, 29 Jan 2025) EndedAt: 2025-01-29 01:12:23 -0000 (Wed, 29 Jan 2025) EllapsedTime: 184.3 seconds RetCode: 0 Status: OK PackageFile: pairedGSEA_1.7.0.tar.gz PackageFileSize: 562.1 KiB