Package: pairedGSEA Version: 1.7.0 Command: /Library/Frameworks/R.framework/Resources/bin/R CMD build --keep-empty-dirs --no-resave-data pairedGSEA StartedAt: 2025-02-09 17:51:24 -0500 (Sun, 09 Feb 2025) EndedAt: 2025-02-09 17:55:26 -0500 (Sun, 09 Feb 2025) EllapsedTime: 242.0 seconds RetCode: 0 Status: OK PackageFile: pairedGSEA_1.7.0.tar.gz PackageFileSize: 604.3 KiB