Package: pairedGSEA Version: 1.7.0 Command: E:\biocbuild\bbs-3.21-bioc\R\bin\R.exe CMD INSTALL pairedGSEA StartedAt: 2025-02-09 16:19:33 -0500 (Sun, 09 Feb 2025) EndedAt: 2025-02-09 16:20:20 -0500 (Sun, 09 Feb 2025) EllapsedTime: 46.6 seconds RetCode: 0 Status: OK