Package: pairkat Version: 1.13.0 Command: rm -rf pairkat.buildbin-libdir && mkdir pairkat.buildbin-libdir && /Users/biocbuild/BBS/utils/build-universal.sh pairkat_1.13.0.tar.gz /Library/Frameworks/R.framework/Resources/bin/R pairkat.buildbin-libdir StartedAt: 2025-02-05 22:29:38 -0500 (Wed, 05 Feb 2025) EndedAt: 2025-02-05 22:29:48 -0500 (Wed, 05 Feb 2025) EllapsedTime: 10.3 seconds RetCode: 0 Status: OK PackageFile: pairkat_1.13.0.tgz PackageFileSize: 855.7 KiB