Package: pairkat Version: 1.13.0 Command: /Library/Frameworks/R.framework/Resources/bin/R CMD build --keep-empty-dirs --no-resave-data pairkat StartedAt: 2025-02-05 17:13:21 -0500 (Wed, 05 Feb 2025) EndedAt: 2025-02-05 17:14:44 -0500 (Wed, 05 Feb 2025) EllapsedTime: 82.9 seconds RetCode: 0 Status: OK PackageFile: pairkat_1.13.0.tar.gz PackageFileSize: 824.4 KiB