Package: pairkat Version: 1.13.0 Command: /home/biocbuild/R/R/bin/R CMD build --keep-empty-dirs --no-resave-data pairkat StartedAt: 2025-01-29 01:09:24 -0000 (Wed, 29 Jan 2025) EndedAt: 2025-01-29 01:12:06 -0000 (Wed, 29 Jan 2025) EllapsedTime: 162.3 seconds RetCode: 0 Status: OK PackageFile: pairkat_1.13.0.tar.gz PackageFileSize: 845.5 KiB