Package: pairkat Version: 1.13.0 Command: /Library/Frameworks/R.framework/Resources/bin/R CMD INSTALL pairkat StartedAt: 2025-02-05 15:09:35 -0500 (Wed, 05 Feb 2025) EndedAt: 2025-02-05 15:10:06 -0500 (Wed, 05 Feb 2025) EllapsedTime: 31.1 seconds RetCode: 0 Status: OK