Package: pairkat Version: 1.13.0 Command: /home/biocbuild/bbs-3.21-bioc/R/bin/R CMD INSTALL pairkat StartedAt: 2025-02-05 15:24:22 -0500 (Wed, 05 Feb 2025) EndedAt: 2025-02-05 15:24:46 -0500 (Wed, 05 Feb 2025) EllapsedTime: 23.5 seconds RetCode: 0 Status: OK