Package: pairkat Version: 1.13.0 Command: rm -rf pairkat.buildbin-libdir && mkdir pairkat.buildbin-libdir && E:\biocbuild\bbs-3.21-bioc\R\bin\R.exe CMD INSTALL --build --library=pairkat.buildbin-libdir pairkat_1.13.0.tar.gz StartedAt: 2025-02-06 08:39:30 -0500 (Thu, 06 Feb 2025) EndedAt: 2025-02-06 08:39:56 -0500 (Thu, 06 Feb 2025) EllapsedTime: 26.1 seconds RetCode: 0 Status: OK PackageFile: pairkat_1.13.0.zip PackageFileSize: 804.2 KiB