Package: pairkat Version: 1.13.0 Command: chmod a+r pairkat -R && E:\biocbuild\bbs-3.21-bioc\R\bin\R.exe CMD build --keep-empty-dirs --no-resave-data pairkat StartedAt: 2025-02-04 20:38:10 -0500 (Tue, 04 Feb 2025) EndedAt: 2025-02-04 20:40:19 -0500 (Tue, 04 Feb 2025) EllapsedTime: 129.0 seconds RetCode: 0 Status: OK PackageFile: pairkat_1.13.0.tar.gz PackageFileSize: 769.8 KiB