Package: pairkat Version: 1.13.0 Command: E:\biocbuild\bbs-3.21-bioc\R\bin\R.exe CMD INSTALL pairkat StartedAt: 2025-02-05 15:48:39 -0500 (Wed, 05 Feb 2025) EndedAt: 2025-02-05 15:49:07 -0500 (Wed, 05 Feb 2025) EllapsedTime: 27.6 seconds RetCode: 0 Status: OK