Package: panp Version: 1.77.0 Command: /Library/Frameworks/R.framework/Resources/bin/R CMD INSTALL panp StartedAt: 2025-02-12 15:06:01 -0500 (Wed, 12 Feb 2025) EndedAt: 2025-02-12 15:06:35 -0500 (Wed, 12 Feb 2025) EllapsedTime: 34.7 seconds RetCode: 0 Status: OK