Package: panp Version: 1.77.0 Command: /home/biocbuild/bbs-3.21-bioc/R/bin/R CMD INSTALL panp StartedAt: 2025-02-09 15:12:40 -0500 (Sun, 09 Feb 2025) EndedAt: 2025-02-09 15:12:43 -0500 (Sun, 09 Feb 2025) EllapsedTime: 2.8 seconds RetCode: 0 Status: OK