Package: pareg Version: 1.11.1 Command: /Library/Frameworks/R.framework/Resources/bin/R CMD build --keep-empty-dirs --no-resave-data pareg StartedAt: 2025-02-09 17:53:20 -0500 (Sun, 09 Feb 2025) EndedAt: 2025-02-09 17:55:52 -0500 (Sun, 09 Feb 2025) EllapsedTime: 151.9 seconds RetCode: 1 Status: ERROR PackageFile: None PackageFileSize: NA