Package: pareg Version: 1.11.1 Command: /Library/Frameworks/R.framework/Resources/bin/R CMD INSTALL pareg StartedAt: 2025-02-09 15:32:43 -0500 (Sun, 09 Feb 2025) EndedAt: 2025-02-09 15:33:11 -0500 (Sun, 09 Feb 2025) EllapsedTime: 28.6 seconds RetCode: 0 Status: OK