Package: pareg Version: 1.11.1 Command: /home/biocbuild/bbs-3.21-bioc/R/bin/R CMD build --keep-empty-dirs --no-resave-data pareg StartedAt: 2025-02-12 18:31:10 -0500 (Wed, 12 Feb 2025) EndedAt: 2025-02-12 18:33:06 -0500 (Wed, 12 Feb 2025) EllapsedTime: 116.2 seconds RetCode: 1 Status: ERROR PackageFile: None PackageFileSize: NA