Package: pareg Version: 1.11.1 Command: /home/biocbuild/bbs-3.21-bioc/R/bin/R CMD INSTALL pareg StartedAt: 2025-02-09 15:43:05 -0500 (Sun, 09 Feb 2025) EndedAt: 2025-02-09 15:43:24 -0500 (Sun, 09 Feb 2025) EllapsedTime: 18.9 seconds RetCode: 0 Status: OK