Package: pareg Version: 1.11.1 Command: chmod a+r pareg -R && E:\biocbuild\bbs-3.21-bioc\R\bin\R.exe --arch x64 CMD build --keep-empty-dirs --no-resave-data pareg StartedAt: 2025-02-09 20:36:23 -0500 (Sun, 09 Feb 2025) EndedAt: 2025-02-09 20:52:20 -0500 (Sun, 09 Feb 2025) EllapsedTime: 957.2 seconds RetCode: 1 Status: ERROR PackageFile: None PackageFileSize: NA