Package: pareg Version: 1.11.1 Command: E:\biocbuild\bbs-3.21-bioc\R\bin\R.exe CMD INSTALL pareg StartedAt: 2025-02-09 15:56:59 -0500 (Sun, 09 Feb 2025) EndedAt: 2025-02-09 16:02:08 -0500 (Sun, 09 Feb 2025) EllapsedTime: 309.2 seconds RetCode: 0 Status: OK