Package: parglms Version: 1.39.0 Command: rm -rf parglms.buildbin-libdir && mkdir parglms.buildbin-libdir && /Users/biocbuild/BBS/utils/build-universal.sh parglms_1.39.0.tar.gz /Library/Frameworks/R.framework/Resources/bin/R parglms.buildbin-libdir StartedAt: 2025-02-03 23:00:30 -0500 (Mon, 03 Feb 2025) EndedAt: 2025-02-03 23:00:33 -0500 (Mon, 03 Feb 2025) EllapsedTime: 3.1 seconds RetCode: 0 Status: OK PackageFile: parglms_1.39.0.tgz PackageFileSize: 295.3 KiB