Package: parglms Version: 1.39.0 Command: /Library/Frameworks/R.framework/Resources/bin/R CMD check --install=check:parglms.install-out.txt --library=/Library/Frameworks/R.framework/Resources/library --no-vignettes --timings parglms_1.39.0.tar.gz StartedAt: 2025-02-09 20:35:26 -0500 (Sun, 09 Feb 2025) EndedAt: 2025-02-09 20:35:46 -0500 (Sun, 09 Feb 2025) EllapsedTime: 19.4 seconds RetCode: 0 Status: OK CheckDir: parglms.Rcheck Warnings: 0